BEGIN:VCALENDAR
VERSION:2.0
PRODID:-//Roanoke Valley Music Teachers Association - ECPv6.15.20//NONSGML v1.0//EN
CALSCALE:GREGORIAN
METHOD:PUBLISH
X-ORIGINAL-URL:https://rvmta.org
X-WR-CALDESC:Events for Roanoke Valley Music Teachers Association
REFRESH-INTERVAL;VALUE=DURATION:PT1H
X-Robots-Tag:noindex
X-PUBLISHED-TTL:PT1H
BEGIN:VTIMEZONE
TZID:America/New_York
BEGIN:DAYLIGHT
TZOFFSETFROM:-0500
TZOFFSETTO:-0400
TZNAME:EDT
DTSTART:20250309T070000
END:DAYLIGHT
BEGIN:STANDARD
TZOFFSETFROM:-0400
TZOFFSETTO:-0500
TZNAME:EST
DTSTART:20251102T060000
END:STANDARD
BEGIN:DAYLIGHT
TZOFFSETFROM:-0500
TZOFFSETTO:-0400
TZNAME:EDT
DTSTART:20260308T070000
END:DAYLIGHT
BEGIN:STANDARD
TZOFFSETFROM:-0400
TZOFFSETTO:-0500
TZNAME:EST
DTSTART:20261101T060000
END:STANDARD
BEGIN:DAYLIGHT
TZOFFSETFROM:-0500
TZOFFSETTO:-0400
TZNAME:EDT
DTSTART:20270314T070000
END:DAYLIGHT
BEGIN:STANDARD
TZOFFSETFROM:-0400
TZOFFSETTO:-0500
TZNAME:EST
DTSTART:20271107T060000
END:STANDARD
END:VTIMEZONE
BEGIN:VEVENT
DTSTART;TZID=America/New_York:20260109T100000
DTEND;TZID=America/New_York:20260109T113000
DTSTAMP:20260423T150236
CREATED:20250909T164318Z
LAST-MODIFIED:20250909T164322Z
UID:1726-1767952800-1767958200@rvmta.org
SUMMARY:Erica Sipes\, Pianist: Workshop/Performance – “Let Them Fly! –Stories of Women Composers and Their Music”
DESCRIPTION:In the presentation there will be music by Marianna Martines\, Florence Price\, Margaret Bonds\, Germaine Tailleferre\, Melanie Bonis\, Lili Boulanger\, Annavon Schaden\, Dora Pejačević\, and Madeleine Dring.
URL:https://rvmta.org/event/erica-sipes-pianist-workshop-performance-let-them-fly-stories-of-women-composers-and-their-music/
LOCATION:Apex Piano Showroom\, 2134 Colonial Ave SW\, Roanoke\, VA\, 24015\, United States
ATTACH;FMTTYPE=image/jpeg:https://rvmta.org/wp-content/uploads/2025/09/Erica.jpg
END:VEVENT
END:VCALENDAR