BEGIN:VCALENDAR
VERSION:2.0
PRODID:-//Roanoke Valley Music Teachers Association - ECPv6.15.20//NONSGML v1.0//EN
CALSCALE:GREGORIAN
METHOD:PUBLISH
X-ORIGINAL-URL:https://rvmta.org
X-WR-CALDESC:Events for Roanoke Valley Music Teachers Association
REFRESH-INTERVAL;VALUE=DURATION:PT1H
X-Robots-Tag:noindex
X-PUBLISHED-TTL:PT1H
BEGIN:VTIMEZONE
TZID:America/New_York
BEGIN:DAYLIGHT
TZOFFSETFROM:-0500
TZOFFSETTO:-0400
TZNAME:EDT
DTSTART:20230312T070000
END:DAYLIGHT
BEGIN:STANDARD
TZOFFSETFROM:-0400
TZOFFSETTO:-0500
TZNAME:EST
DTSTART:20231105T060000
END:STANDARD
BEGIN:DAYLIGHT
TZOFFSETFROM:-0500
TZOFFSETTO:-0400
TZNAME:EDT
DTSTART:20240310T070000
END:DAYLIGHT
BEGIN:STANDARD
TZOFFSETFROM:-0400
TZOFFSETTO:-0500
TZNAME:EST
DTSTART:20241103T060000
END:STANDARD
BEGIN:DAYLIGHT
TZOFFSETFROM:-0500
TZOFFSETTO:-0400
TZNAME:EDT
DTSTART:20250309T070000
END:DAYLIGHT
BEGIN:STANDARD
TZOFFSETFROM:-0400
TZOFFSETTO:-0500
TZNAME:EST
DTSTART:20251102T060000
END:STANDARD
END:VTIMEZONE
BEGIN:VEVENT
DTSTART;TZID=America/New_York:20241011T100000
DTEND;TZID=America/New_York:20241011T120000
DTSTAMP:20260424T095615
CREATED:20240903T211330Z
LAST-MODIFIED:20241102T233711Z
UID:1600-1728640800-1728648000@rvmta.org
SUMMARY:Dr. David Berry III: “Finding your Voice: Learning to Make Creative Piano Arrangements and Teaching Your Students to As Well”
DESCRIPTION:A truly versatile artist\, pianist David Berry has established a multi-faceted career as a concert performer\, arranger\, educator\, and speaker. He is the Associate Professor of Music and Chair of the Music Department at Eastern Mennonite University\, where he also serves as Interim Associate Dean for the School of Theology\, Humanities\, and the Performing Arts.
URL:https://rvmta.org/event/dr-david-berry-iii-finding-your-voice-learning-to-make-creative-piano-arrangements-and-teaching-your-students-to-as-well/
LOCATION:Apex Piano Showroom\, 2134 Colonial Ave SW\, Roanoke\, VA\, 24015\, United States
ATTACH;FMTTYPE=image/jpeg:https://rvmta.org/wp-content/uploads/2024/09/20180129-David-Berry-Piano-Recital-013-1000px.jpg
END:VEVENT
END:VCALENDAR