BEGIN:VCALENDAR
VERSION:2.0
PRODID:-//Roanoke Valley Music Teachers Association - ECPv6.15.20//NONSGML v1.0//EN
CALSCALE:GREGORIAN
METHOD:PUBLISH
X-WR-CALNAME:Roanoke Valley Music Teachers Association
X-ORIGINAL-URL:https://rvmta.org
X-WR-CALDESC:Events for Roanoke Valley Music Teachers Association
REFRESH-INTERVAL;VALUE=DURATION:PT1H
X-Robots-Tag:noindex
X-PUBLISHED-TTL:PT1H
BEGIN:VTIMEZONE
TZID:America/New_York
BEGIN:DAYLIGHT
TZOFFSETFROM:-0500
TZOFFSETTO:-0400
TZNAME:EDT
DTSTART:20230312T070000
END:DAYLIGHT
BEGIN:STANDARD
TZOFFSETFROM:-0400
TZOFFSETTO:-0500
TZNAME:EST
DTSTART:20231105T060000
END:STANDARD
BEGIN:DAYLIGHT
TZOFFSETFROM:-0500
TZOFFSETTO:-0400
TZNAME:EDT
DTSTART:20240310T070000
END:DAYLIGHT
BEGIN:STANDARD
TZOFFSETFROM:-0400
TZOFFSETTO:-0500
TZNAME:EST
DTSTART:20241103T060000
END:STANDARD
BEGIN:DAYLIGHT
TZOFFSETFROM:-0500
TZOFFSETTO:-0400
TZNAME:EDT
DTSTART:20250309T070000
END:DAYLIGHT
BEGIN:STANDARD
TZOFFSETFROM:-0400
TZOFFSETTO:-0500
TZNAME:EST
DTSTART:20251102T060000
END:STANDARD
END:VTIMEZONE
BEGIN:VEVENT
DTSTART;TZID=America/New_York:20240112T100000
DTEND;TZID=America/New_York:20240112T113000
DTSTAMP:20260424T212957
CREATED:20231003T163432Z
LAST-MODIFIED:20231003T163525Z
UID:1507-1705053600-1705059000@rvmta.org
SUMMARY:"Ode to Joy" - Happy 200th Birthday with Dr. David Zuschin
DESCRIPTION:David Zuschin\, Ph.D.\, has taught courses in music history and music theory at Radford University since 2001 at both undergraduate and graduate levels. A native of Kent\, Ohio\, Zuschin graduated summa cum laude from Kent State University with a bachelor of music in music education. He studied at Yale University with the late Bach scholar Paul Brainard\, writing his master’s thesis on the musical structure and theology of the St. Matthew Passion. From 1993-96\, he directed the choral program and taught voice at Brevard College in Brevard\, N.C. before returning to Kent State to complete the Ph.D. in Musicology /Ethnomusicology. At Kent\, he worked with musicologist Theodore Albrecht and art historian Gustav Medicus on his dissertation Parallels in Style between Music and Painting of the High Renaissance in Italy. He has studied abroad in Florence\, Italy\, and Southern France. \n\n\n\nAt Radford\, Zuschin has focused on the pedagogy of music history and the use of technology in the teaching and learning of music. He headed up the creation of Opus X\, the department’s library of digital recordings\, and has given presentations as well as published research on the interactive use of technology in music history. He currently serves as the president of the Thetu Mu chapter of Pi Kappa Lambda.
URL:https://rvmta.org/event/ode-to-joy-happy-200th-birthday-with-dr-david-zuschin/
LOCATION:Apex Piano Showroom\, 2134 Colonial Ave SW\, Roanoke\, VA\, 24015\, United States
END:VEVENT
END:VCALENDAR