BEGIN:VCALENDAR
VERSION:2.0
PRODID:-//Roanoke Valley Music Teachers Association - ECPv6.15.20//NONSGML v1.0//EN
CALSCALE:GREGORIAN
METHOD:PUBLISH
X-ORIGINAL-URL:https://rvmta.org
X-WR-CALDESC:Events for Roanoke Valley Music Teachers Association
REFRESH-INTERVAL;VALUE=DURATION:PT1H
X-Robots-Tag:noindex
X-PUBLISHED-TTL:PT1H
BEGIN:VTIMEZONE
TZID:America/New_York
BEGIN:DAYLIGHT
TZOFFSETFROM:-0500
TZOFFSETTO:-0400
TZNAME:EDT
DTSTART:20210314T070000
END:DAYLIGHT
BEGIN:STANDARD
TZOFFSETFROM:-0400
TZOFFSETTO:-0500
TZNAME:EST
DTSTART:20211107T060000
END:STANDARD
BEGIN:DAYLIGHT
TZOFFSETFROM:-0500
TZOFFSETTO:-0400
TZNAME:EDT
DTSTART:20220313T070000
END:DAYLIGHT
BEGIN:STANDARD
TZOFFSETFROM:-0400
TZOFFSETTO:-0500
TZNAME:EST
DTSTART:20221106T060000
END:STANDARD
BEGIN:DAYLIGHT
TZOFFSETFROM:-0500
TZOFFSETTO:-0400
TZNAME:EDT
DTSTART:20230312T070000
END:DAYLIGHT
BEGIN:STANDARD
TZOFFSETFROM:-0400
TZOFFSETTO:-0500
TZNAME:EST
DTSTART:20231105T060000
END:STANDARD
END:VTIMEZONE
BEGIN:VEVENT
DTSTART;TZID=America/New_York:20221014T100000
DTEND;TZID=America/New_York:20221014T100000
DTSTAMP:20260425T164129
CREATED:20220819T154308Z
LAST-MODIFIED:20240604T144953Z
UID:1274-1665741600-1665741600@rvmta.org
SUMMARY:Reaching our Special Learning Students through Music Therapy
DESCRIPTION:Presented by Dr. Sekyung Jang\, Radford University \n\n\n\nDr. Sekyung Jang\, assistant professor of music\, earned her Bachelor of Arts from Utah State University. She has her Master of Music from Colorado State University\, and the Doctor of Philosophy in Music Education with an emphasis of Music Therapy from the University of Kansas. Dr. Jang teaches undergraduate and graduate courses in music therapy which include Psychology of Music\, Clinical Orientation in Music Therapy\, and Advanced Methods and Materials in Music Therapy. \n\n\n\nPrior to her appointment at Radford University\, Dr. Jang developed and implemented various music-based interventions as a founder and director of GongGam Music Psychological Institute in South Korea. Through contractual works\, she served variety of clientele\, including older adults in community-based settings and children and adolescence in public schools. She has also worked with children with developmental delays and emotional/behavioral challenges in both South Korea and the United States. \n\n\n\nHer current clinical and research interests are prevention of depression in older persons\, theory-based intervention research\, intergenerational programming\, and music therapy supervision. Dr. Jang received specialized training in Neurologic Music Therapy and presents regularly in regional\, national\, and international conferences and symposia. \n\n\n\nThe field of music therapy is rapidly growing. In her workshop\, Dr. Jang will engage in discussions about how various music experiences (e.g.\, singing\, instrument playing\, song writing) are used to facilitate changes in cognitive\, emotional\, social\, communication\, physical\, and spiritual domains in music therapy practice. Dr. Jang will demonstrate the use of piano in sensory-motor exercises and self-expression through song writing. In addition\, participants will learn how to utilize instruments to address attention\, decision making\, and social skills.
URL:https://rvmta.org/event/reaching-our-special-learning-students-through-music-therapy/
LOCATION:Apex Piano Showroom\, 2134 Colonial Ave SW\, Roanoke\, VA\, 24015\, United States
ATTACH;FMTTYPE=image/jpeg:https://rvmta.org/wp-content/uploads/2022/08/Sekyung-Jang.jpg
END:VEVENT
BEGIN:VEVENT
DTSTART;TZID=America/New_York:20221027T120000
DTEND;TZID=America/New_York:20221029T120000
DTSTAMP:20260425T164129
CREATED:20220819T171154Z
LAST-MODIFIED:20220819T171156Z
UID:1330-1666872000-1667044800@rvmta.org
SUMMARY:Virginia State Conference
DESCRIPTION:Guest Clinician Lori Bastien\, Guest Artist Thomas Pandolfi.  More information can be found at the VMTA website.
URL:https://rvmta.org/event/virginia-state-conference/
LOCATION:VA
END:VEVENT
END:VCALENDAR