BEGIN:VCALENDAR
VERSION:2.0
PRODID:-//Roanoke Valley Music Teachers Association - ECPv6.15.20//NONSGML v1.0//EN
CALSCALE:GREGORIAN
METHOD:PUBLISH
X-WR-CALNAME:Roanoke Valley Music Teachers Association
X-ORIGINAL-URL:https://rvmta.org
X-WR-CALDESC:Events for Roanoke Valley Music Teachers Association
REFRESH-INTERVAL;VALUE=DURATION:PT1H
X-Robots-Tag:noindex
X-PUBLISHED-TTL:PT1H
BEGIN:VTIMEZONE
TZID:America/New_York
BEGIN:DAYLIGHT
TZOFFSETFROM:-0500
TZOFFSETTO:-0400
TZNAME:EDT
DTSTART:20250309T070000
END:DAYLIGHT
BEGIN:STANDARD
TZOFFSETFROM:-0400
TZOFFSETTO:-0500
TZNAME:EST
DTSTART:20251102T060000
END:STANDARD
BEGIN:DAYLIGHT
TZOFFSETFROM:-0500
TZOFFSETTO:-0400
TZNAME:EDT
DTSTART:20260308T070000
END:DAYLIGHT
BEGIN:STANDARD
TZOFFSETFROM:-0400
TZOFFSETTO:-0500
TZNAME:EST
DTSTART:20261101T060000
END:STANDARD
BEGIN:DAYLIGHT
TZOFFSETFROM:-0500
TZOFFSETTO:-0400
TZNAME:EDT
DTSTART:20270314T070000
END:DAYLIGHT
BEGIN:STANDARD
TZOFFSETFROM:-0400
TZOFFSETTO:-0500
TZNAME:EST
DTSTART:20271107T060000
END:STANDARD
END:VTIMEZONE
BEGIN:VEVENT
DTSTART;TZID=America/New_York:20260313T100000
DTEND;TZID=America/New_York:20260313T113000
DTSTAMP:20260423T183141
CREATED:20250909T172247Z
LAST-MODIFIED:20250909T172252Z
UID:1736-1773396000-1773401400@rvmta.org
SUMMARY:Michael Milam\, Minister of Music/Organist - Workshop/Performance
DESCRIPTION:“Organ Basics for Pianists” at St. John’s Episcopal Church in Roanoke\, Virginia
URL:https://rvmta.org/event/michael-milam-minister-of-music-organist-workshop-performance/
LOCATION:St. John’s Episcopal Church\, 1 Mountain Ave SW\, Roanoke\, Virginia\, 24016\, United States
ATTACH;FMTTYPE=image/jpeg:https://rvmta.org/wp-content/uploads/2025/09/Michael.jpg
END:VEVENT
BEGIN:VEVENT
DTSTART;TZID=America/New_York:20260410T100000
DTEND;TZID=America/New_York:20260410T113000
DTSTAMP:20260423T183141
CREATED:20250909T172935Z
LAST-MODIFIED:20250909T172939Z
UID:1741-1775815200-1775820600@rvmta.org
SUMMARY:RVMTA Scholarship Winner’s Recital
DESCRIPTION:Come and listen to our 2026 Scholarship winner perform! Luncheon to follow.
URL:https://rvmta.org/event/rvmta-scholarship-winners-recital/
LOCATION:Apex Piano Showroom\, 2134 Colonial Ave SW\, Roanoke\, VA\, 24015\, United States
ATTACH;FMTTYPE=image/jpeg:https://rvmta.org/wp-content/uploads/2025/09/RVMTA-1.jpg
END:VEVENT
BEGIN:VEVENT
DTSTART;TZID=America/New_York:20260508T100000
DTEND;TZID=America/New_York:20260508T113000
DTSTAMP:20260423T183141
CREATED:20250909T173642Z
LAST-MODIFIED:20250909T214906Z
UID:1744-1778234400-1778239800@rvmta.org
SUMMARY:Roundtable Discussion: “Getting Creative with Summer Lessons!”
DESCRIPTION:Bring your ideas to share with members in attendance! Business Meeting/Recognition of Officers will follow.
URL:https://rvmta.org/event/roundtable-discussion-getting-creative-with-summer-lessons/
LOCATION:Apex Piano Showroom\, 2134 Colonial Ave SW\, Roanoke\, VA\, 24015\, United States
ATTACH;FMTTYPE=image/jpeg:https://rvmta.org/wp-content/uploads/2025/09/RVMTA-2.jpg
END:VEVENT
END:VCALENDAR