BEGIN:VCALENDAR
VERSION:2.0
PRODID:-//Roanoke Valley Music Teachers Association - ECPv6.15.20//NONSGML v1.0//EN
CALSCALE:GREGORIAN
METHOD:PUBLISH
X-WR-CALNAME:Roanoke Valley Music Teachers Association
X-ORIGINAL-URL:https://rvmta.org
X-WR-CALDESC:Events for Roanoke Valley Music Teachers Association
REFRESH-INTERVAL;VALUE=DURATION:PT1H
X-Robots-Tag:noindex
X-PUBLISHED-TTL:PT1H
BEGIN:VTIMEZONE
TZID:America/New_York
BEGIN:DAYLIGHT
TZOFFSETFROM:-0500
TZOFFSETTO:-0400
TZNAME:EDT
DTSTART:20230312T070000
END:DAYLIGHT
BEGIN:STANDARD
TZOFFSETFROM:-0400
TZOFFSETTO:-0500
TZNAME:EST
DTSTART:20231105T060000
END:STANDARD
BEGIN:DAYLIGHT
TZOFFSETFROM:-0500
TZOFFSETTO:-0400
TZNAME:EDT
DTSTART:20240310T070000
END:DAYLIGHT
BEGIN:STANDARD
TZOFFSETFROM:-0400
TZOFFSETTO:-0500
TZNAME:EST
DTSTART:20241103T060000
END:STANDARD
BEGIN:DAYLIGHT
TZOFFSETFROM:-0500
TZOFFSETTO:-0400
TZNAME:EDT
DTSTART:20250309T070000
END:DAYLIGHT
BEGIN:STANDARD
TZOFFSETFROM:-0400
TZOFFSETTO:-0500
TZNAME:EST
DTSTART:20251102T060000
END:STANDARD
END:VTIMEZONE
BEGIN:VEVENT
DTSTART;TZID=America/New_York:20240913T100000
DTEND;TZID=America/New_York:20240913T120000
DTSTAMP:20260424T124558
CREATED:20240903T210756Z
LAST-MODIFIED:20241005T094453Z
UID:1598-1726221600-1726228800@rvmta.org
SUMMARY:Business Meeting and Roundtable Discussion: Board & Committee Members' Duties
DESCRIPTION:
URL:https://rvmta.org/event/business-meeting-and-roundtable-discussion-board-committee-members-duties/
LOCATION:Apex Piano Showroom\, 2134 Colonial Ave SW\, Roanoke\, VA\, 24015\, United States
ATTACH;FMTTYPE=image/jpeg:https://rvmta.org/wp-content/uploads/2023/07/Add-a-little-bit-of-body-text.jpg
END:VEVENT
END:VCALENDAR