BEGIN:VCALENDAR
VERSION:2.0
PRODID:-//Roanoke Valley Music Teachers Association - ECPv6.15.20//NONSGML v1.0//EN
CALSCALE:GREGORIAN
METHOD:PUBLISH
X-ORIGINAL-URL:https://rvmta.org
X-WR-CALDESC:Events for Roanoke Valley Music Teachers Association
REFRESH-INTERVAL;VALUE=DURATION:PT1H
X-Robots-Tag:noindex
X-PUBLISHED-TTL:PT1H
BEGIN:VTIMEZONE
TZID:America/New_York
BEGIN:DAYLIGHT
TZOFFSETFROM:-0500
TZOFFSETTO:-0400
TZNAME:EDT
DTSTART:20210314T070000
END:DAYLIGHT
BEGIN:STANDARD
TZOFFSETFROM:-0400
TZOFFSETTO:-0500
TZNAME:EST
DTSTART:20211107T060000
END:STANDARD
BEGIN:DAYLIGHT
TZOFFSETFROM:-0500
TZOFFSETTO:-0400
TZNAME:EDT
DTSTART:20220313T070000
END:DAYLIGHT
BEGIN:STANDARD
TZOFFSETFROM:-0400
TZOFFSETTO:-0500
TZNAME:EST
DTSTART:20221106T060000
END:STANDARD
BEGIN:DAYLIGHT
TZOFFSETFROM:-0500
TZOFFSETTO:-0400
TZNAME:EDT
DTSTART:20230312T070000
END:DAYLIGHT
BEGIN:STANDARD
TZOFFSETFROM:-0400
TZOFFSETTO:-0500
TZNAME:EST
DTSTART:20231105T060000
END:STANDARD
END:VTIMEZONE
BEGIN:VEVENT
DTSTART;TZID=America/New_York:20220909T100000
DTEND;TZID=America/New_York:20220909T100000
DTSTAMP:20260425T185114
CREATED:20220819T154120Z
LAST-MODIFIED:20220831T122241Z
UID:1270-1662717600-1662717600@rvmta.org
SUMMARY:Fun With Scales!
DESCRIPTION:Presented by Eric Ruple\, James Madison University.  Dutch treat lunch to follow. \n\n\n\n\n\n\n\nABOUT THE PRESENTATION \n\n\n\n“Fun With Scales…Really” \n\n\n\nThis workshop is all about the teaching and playing of scales. Is scale practice a daily routine for yourself and your students? Or is it more akin to pulling teeth\, a “lost cause” or a Sisyphusian exercise in futility? We will review and explore why they are important\, take a fresh look at how we teach them (yes\, folks\, much of this this WILL be controversial)\, and show some ways to help you to never get bored playing or teaching them ever again!ABOUT THE PRESENTER​Steinway Artist Eric Ruple is on the piano faculty at James Madison University.  He enjoys an active career as a solo and chamber musician\, including several performances at the Kennedy Center in Washington\, DC and Steinway Hall in New York. He is also pianist for the Virginia Symphony Orchestra\, including principal keyboard role in the ongoing “Harry Potter Live” concerts. He was also featured in Bernstein’s “Prelude\, Fugue and Riffs” with the VSO Jazz Ensemble.His recording “Musica Incognito” with hornist Ian Zook has earned unanimously positive reviews from several national and international publications. He is president of the Shenandoah Valley/JMU Chapter of the American Liszt Society and is a regular adjudicator in Hong Kong. In 2019-2020\, he served as Interim Director for the JMU School of Music. He received his doctoral degree from the University of Michigan.
URL:https://rvmta.org/event/fun-with-scales/
LOCATION:Apex Piano Showroom\, 2134 Colonial Ave SW\, Roanoke\, VA\, 24015\, United States
END:VEVENT
END:VCALENDAR