BEGIN:VCALENDAR
VERSION:2.0
PRODID:-//Roanoke Valley Music Teachers Association - ECPv6.15.20//NONSGML v1.0//EN
CALSCALE:GREGORIAN
METHOD:PUBLISH
X-ORIGINAL-URL:https://rvmta.org
X-WR-CALDESC:Events for Roanoke Valley Music Teachers Association
REFRESH-INTERVAL;VALUE=DURATION:PT1H
X-Robots-Tag:noindex
X-PUBLISHED-TTL:PT1H
BEGIN:VTIMEZONE
TZID:America/New_York
BEGIN:DAYLIGHT
TZOFFSETFROM:-0500
TZOFFSETTO:-0400
TZNAME:EDT
DTSTART:20210314T070000
END:DAYLIGHT
BEGIN:STANDARD
TZOFFSETFROM:-0400
TZOFFSETTO:-0500
TZNAME:EST
DTSTART:20211107T060000
END:STANDARD
BEGIN:DAYLIGHT
TZOFFSETFROM:-0500
TZOFFSETTO:-0400
TZNAME:EDT
DTSTART:20220313T070000
END:DAYLIGHT
BEGIN:STANDARD
TZOFFSETFROM:-0400
TZOFFSETTO:-0500
TZNAME:EST
DTSTART:20221106T060000
END:STANDARD
BEGIN:DAYLIGHT
TZOFFSETFROM:-0500
TZOFFSETTO:-0400
TZNAME:EDT
DTSTART:20230312T070000
END:DAYLIGHT
BEGIN:STANDARD
TZOFFSETFROM:-0400
TZOFFSETTO:-0500
TZNAME:EST
DTSTART:20231105T060000
END:STANDARD
END:VTIMEZONE
BEGIN:VEVENT
DTSTART;TZID=America/New_York:20220513T100000
DTEND;TZID=America/New_York:20220513T120000
DTSTAMP:20260425T233318
CREATED:20210914T183524Z
LAST-MODIFIED:20210914T183526Z
UID:1074-1652436000-1652443200@rvmta.org
SUMMARY:Scholarship Winner's Recital and Final Business meeting
DESCRIPTION:On May 13\, 2022\, our Scholarship Winner will present their winning selection in a Recital at Apex Piano Showroom.  A Business meeting will follow.
URL:https://rvmta.org/event/scholarship-winners-recital-and-final-business-meeting/
LOCATION:Apex Piano Showroom\, 2134 Colonial Ave SW\, Roanoke\, VA\, 24015\, United States
ATTACH;FMTTYPE=image/jpeg:https://rvmta.org/wp-content/uploads/2021/09/feature-12.jpg
END:VEVENT
END:VCALENDAR